BEGIN:VCALENDAR
VERSION:2.0
PRODID:-//ChamberMaster//Event Calendar 2.0//EN
METHOD:PUBLISH
X-PUBLISHED-TTL:P3D
REFRESH-INTERVAL:P3D
CALSCALE:GREGORIAN
BEGIN:VEVENT
DTSTART:20131103T000000Z
DTEND:20131103T030000Z
X-MICROSOFT-CDO-ALLDAYEVENT:FALSE
SUMMARY:Zombie 5k
DESCRIPTION:Zombie 5k Saturday\, Nov. 2 Check in at 5 p.m.\, race starts at 6 p.m. SURC East Patio $15\, register at Recreation Center front desk or online at www.cwu.edu/tickets At Central\, a 5k always invites participants to complete the course as best they can ? whether at a run\, jog or walk. However\, a 5k that invites its attendees to face fearsome zombies is a whole new adventure. University Recreation\, Winegars and the CWU Law & Justice Club will host the Zombie 5k\, Saturday\, Nov. 2. Come out to the SURC East Patio at 5 p.m. to register for this one of a kind race. Human participants take off at 6 p.m. and should be prepared not only for a fun 5k\, but the apocalypse\, as zombies will be lurking around the course. Participants will receive a drawstring bag and registration is only $15 at the Recreation Center or online at www.cwu.edu/tickets. Proceeds will be donated to the Behind the Badge Foundation\, an organization dedicated to aiding the families of fallen police officers. The first 25 to register will receive a free Behind the Badge t-shirt. This event features mature themes\, and participants are asked to please not bring pets ? zombies gobble dogs like breakfast cereal. Don?t miss the chance to make a contribution and show off your ability to outrun even the fiercest of zombies. For more information\, please contact Eric Scott at 509-963-3511 or scotter@cwu.edu.
X-ALT-DESC;FMTTYPE=text/html:Zombie 5k Saturday\, Nov. 2 Check in at 5 p.m.\, race starts at 6 p.m. SURC East Patio $15\, register at Recreation Center front desk or online at www.cwu.edu/tickets At Central\, a 5k always invites participants to complete the course as best they can ? whether at a run\, jog or walk. However\, a 5k that invites its attendees to face fearsome zombies is a whole new adventure. University Recreation\, Winegars and the CWU Law &amp\; Justice Club will host the Zombie 5k\, Saturday\, Nov. 2. Come out to the SURC East Patio at 5 p.m. to register for this one of a kind race. Human participants take off at 6 p.m. and should be prepared not only for a fun 5k\, but the apocalypse\, as zombies will be lurking around the course. Participants will receive a drawstring bag and registration is only $15 at the Recreation Center or online at www.cwu.edu/tickets. Proceeds will be donated to the Behind the Badge Foundation\, an organization dedicated to aiding the families of fallen police officers. The first 25 to register will receive a free Behind the Badge t-shirt. This event features mature themes\, and participants are asked to please not bring pets ? zombies gobble dogs like breakfast cereal. Don?t miss the chance to make a contribution and show off your ability to outrun even the fiercest of zombies. For more information\, please contact Eric Scott at 509-963-3511 or scotter@cwu.edu. 
LOCATION:CWU Student Union and Recreation Center (SURC) Patio
UID:e.40.10811
SEQUENCE:3
DTSTAMP:20260419T224916Z
URL:http://business.kittitascountychamber.com/events/details/zombie-5k-11-02-2013-10811
END:VEVENT

END:VCALENDAR
