BEGIN:VCALENDAR
VERSION:2.0
PRODID:-//ChamberMaster//Event Calendar 2.0//EN
METHOD:PUBLISH
X-PUBLISHED-TTL:P3D
REFRESH-INTERVAL:P3D
CALSCALE:GREGORIAN
BEGIN:VEVENT
DTSTART:20210901T190000Z
DTEND:20210901T200000Z
X-MICROSOFT-CDO-ALLDAYEVENT:FALSE
SUMMARY:BDC Lunch & Learn ABCs of Health Insurance for your Company
DESCRIPTION:Employers will learn the basics of group coverage and best practices when shopping for employee benefits.\n\n \n\nWhat is Group coverage?\n\nIs health insurance required for your company?\n\nWho is eligible for coverage?\n\nWhat are employer required to pay and what is common?\n\nHow do I go about getting and comparing quotes?\n\n\n\nThis event is in partnership with Central Washington Home Builders Association.
X-ALT-DESC;FMTTYPE=text/html:Employers will learn the basics of group coverage and best practices when shopping for employee benefits.<br />\n&nbsp\;<br />\nWhat is Group coverage?<br />\nIs health insurance required for your company?<br />\nWho is eligible for coverage?<br />\nWhat are employer required to pay and what is common?<br />\nHow do I go about getting and comparing quotes?<br />\n<br />\nThis event is in partnership with Central Washington Home Builders Association.&nbsp\;
LOCATION:Business Development Center 216 N Pennsylvania Ave Cle Elum\, WA 98922
UID:e.40.26822
SEQUENCE:3
DTSTAMP:20260421T234343Z
URL:https://business.kittitascountychamber.com/events/details/bdc-lunch-learn-abcs-of-health-insurance-for-your-company-26822
END:VEVENT

END:VCALENDAR
