BEGIN:VCALENDAR
VERSION:2.0
PRODID:-//ChamberMaster//Event Calendar 2.0//EN
METHOD:PUBLISH
X-PUBLISHED-TTL:P3D
REFRESH-INTERVAL:P3D
CALSCALE:GREGORIAN
BEGIN:VEVENT
DTSTART:20231130T013000Z
DTEND:20231130T043000Z
X-MICROSOFT-CDO-ALLDAYEVENT:FALSE
SUMMARY:D&D Game Night
DESCRIPTION:Held at the Snoqualmie Pass taproom.\n\n\nCALLING FELLOW DUNGEONS & DRAGONS FANS!\n\nEmbark on a fun\, new campaign at Dru Bru with local Dungeon Master\, Bama Brokaw.\n\nThis is limited to 10 people\, and sign up is required   use the ticket link.\n\nGame outline by the DM:\n\n\n	Level 1\n	Standard array\n	Core books only\n	No god a human has worshiped.\n\n\nFree to attend\, but sign up is REQUIRED (due to limited availability).\n\nBeginner friendly.\n\nAll game materials provided.\n\n \n\nBanner image credit: Bama Brokaw.
X-ALT-DESC;FMTTYPE=text/html:<div>\n<div>\n<div>\n<div>\n<div>Held at the Snoqualmie Pass taproom.</div>\n\n<div>\n<h2>CALLING FELLOW DUNGEONS &amp\; DRAGONS FANS!</h2>\n\n<p>Embark on a fun\, new campaign at Dru Bru with local Dungeon Master\, Bama Brokaw.<br />\nThis is limited to 10 people\, and sign up is required &mdash\; use the&nbsp\;<a href="https://docs.google.com/forms/d/e/1FAIpQLSfisSurPd2egMOuDRi9hBiy1KsA6RDHyjq70KxTNhrlk5oX6A/viewform" style="color: var(--accent-color) !important\; text-decoration-line: none\; box-sizing: border-box !important\; background-color: transparent !important\; box-shadow: none !important\;">ticket link</a>.</p>\n\n<div><u>Game outline by the DM:</u></div>\n\n<ul>\n	<li>Level 1</li>\n	<li>Standard array</li>\n	<li>Core books only</li>\n	<li>No god a human has worshiped.</li>\n</ul>\n\n<div>Free to attend\, but sign up is REQUIRED (due to limited availability).<br />\nBeginner friendly.<br />\nAll game materials provided.<br />\n&nbsp\;</div>\n\n<div>Banner image credit: Bama Brokaw.</div>\n</div>\n</div>\n</div>\n</div>\n</div>\n
LOCATION:Dru Bru - Snoqualmie Pass 10 Pass Life Way #3 Snoqualmie Pass\, WA 98068
UID:e.40.29103
SEQUENCE:3
DTSTAMP:20260425T174014Z
URL:https://business.kittitascountychamber.com/events/details/d-d-game-night-29103
END:VEVENT

END:VCALENDAR
