BEGIN:VCALENDAR
VERSION:2.0
PRODID:-//ChamberMaster//Event Calendar 2.0//EN
METHOD:PUBLISH
X-PUBLISHED-TTL:P3D
REFRESH-INTERVAL:P3D
CALSCALE:GREGORIAN
BEGIN:VEVENT
DTSTART:20250508T010000Z
DTEND:20250508T020000Z
X-MICROSOFT-CDO-ALLDAYEVENT:FALSE
SUMMARY:Dr. Evan Mitchell\, CWU Guest Artist Piano Recital
DESCRIPTION:Please come join us for an evening of rarely performed masterworks by 20th C giants\, performed by Dr. Evan Mitchell\, a steinway artist and professor of piano at University of Florida. "Beginnings: Early-Career Masterworks and Rarities" Interlude I\, Op. posth. by Samuel Barber (1910-1981) Piano Sonata by Gideon Klein (1919-1945) Piano Sonata by Elliott Carter (1908-2012) Piano Sonata in B minor\, Op. 1 by Alban Berg (1885-1935) April Preludes\, Op. 13 by V tezslava Kapr lov  (1915-1940)
X-ALT-DESC;FMTTYPE=text/html:Please come join us for an evening of rarely performed masterworks by 20th C giants\, performed by Dr. Evan Mitchell\, a steinway artist and professor of piano at University of Florida. &quot\;Beginnings: Early-Career Masterworks and Rarities&quot\; Interlude I\, Op. posth. by Samuel Barber (1910-1981) Piano Sonata by Gideon Klein (1919-1945) Piano Sonata by Elliott Carter (1908-2012) Piano Sonata in B minor\, Op. 1 by Alban Berg (1885-1935) April Preludes\, Op. 13 by V&iacute\;tezslava Kapr&aacute\;lov&aacute\; (1915-1940)
LOCATION:CWU McIntyre Music Building
UID:e.40.39061
SEQUENCE:3
DTSTAMP:20260423T221108Z
URL:https://business.kittitascountychamber.com/events/details/dr-evan-mitchell-cwu-guest-artist-piano-recital-39061
END:VEVENT

END:VCALENDAR
