BEGIN:VCALENDAR
VERSION:2.0
PRODID:-//ChamberMaster//Event Calendar 2.0//EN
METHOD:PUBLISH
X-PUBLISHED-TTL:P3D
REFRESH-INTERVAL:P3D
CALSCALE:GREGORIAN
BEGIN:VEVENT
DTSTART:20191026T170000Z
DTEND:20191026T200000Z
X-MICROSOFT-CDO-ALLDAYEVENT:FALSE
SUMMARY:Free Drive Thru Flu Shot Clinic
DESCRIPTION:This is your best "shot" at beating the flu\, without even leaving your car! Drive up to KVH Urgent Care on Billings Ave from West 2nd Street for your FREE Flu Shot.\n\n\n\nShots are available to adults and children over 6 months\, while supplies last. No insurance needed.\n\n\n\nSponsored by Kittitas County Public Hospital District No. 2 and Kittitas Valley Healthcare.
X-ALT-DESC;FMTTYPE=text/html:<span style="color:rgb(29\, 33\, 41)\; font-family:helvetica\,arial\,sans-serif\; font-size:14px">This is your best &quot\;shot&quot\; at beating the flu\, without even leaving your car! Drive up to KVH Urgent Care on Billings Ave from West 2nd Street for your FREE Flu Shot.</span><br />\n<br />\n<span style="color:rgb(29\, 33\, 41)\; font-family:helvetica\,arial\,sans-serif\; font-size:14px">Shots are available to adults and children over 6 months\, while supplies last. No insurance needed.</span><br />\n<br />\n<span style="font-family:arial\,helvetica\,sans-serif\; font-size:14px">Sponsored by&nbsp\;Kittitas County Public Hospital District No. 2 and Kittitas Valley Healthcare.&nbsp\;</span><span style="color:rgb(29\, 33\, 41)\; font-family:helvetica\,arial\,sans-serif\; font-size:14px"> </span>
LOCATION:214 West 1st Street\; Cle Elum\, WA 98922
UID:e.40.26024
SEQUENCE:3
DTSTAMP:20260425T034436Z
URL:https://business.kittitascountychamber.com/events/details/free-drive-thru-flu-shot-clinic-26024
END:VEVENT

END:VCALENDAR
