BEGIN:VCALENDAR
VERSION:2.0
PRODID:-//ChamberMaster//Event Calendar 2.0//EN
METHOD:PUBLISH
X-PUBLISHED-TTL:P3D
REFRESH-INTERVAL:P3D
CALSCALE:GREGORIAN
BEGIN:VEVENT
DTSTART:20241118T220000Z
DTEND:20241118T230000Z
X-MICROSOFT-CDO-ALLDAYEVENT:FALSE
SUMMARY:Hope University
DESCRIPTION:Managing Your Money:\n\nStudents will learn how to create a\n\nbudget\, save money with a purpose\,\n\ncontrol spending and find ways to\n\nearn more\, as well as review tactics\n\nto spend money more efficiently.\n\nSavvy Shopper Seminar:\n\nStudents will learn how to make\n\ntheir dollar go further. The course\n\nwill teach ways to shop smarter at\n\nthe grocery store and how to get\n\nmore for less.\n\nEmployment\, Workshops\, Job Quest 101:\n\nStudents will learn to determine\n\nwhat kind of resume they need and\n\nhow to put their best foot forward  \n\nboth on paper and in an interview.\n\nDeveloping Positive Work Habits:\n\nThis workshop covers the basics of\n\nhow to be an employee who\n\nemployers are seeking. It offers\n\nattendees soft skills training to help\n\nget\, and keep\, the job they want.\n\nOther Workshops\n\nRenting 101:\n\nThis workshop goes over how to\n\napply for rental housing\, determine\n\nyour budget and avoid scams.\n\nOne-on-One Coaching:\n\nOne-on-one coaching sessions are\n\navailable for clients to dive deeper\n\ninto personal finance and budgeting\,\n\nresume building and/or interview\n\nskills. Mock interviews can be\n\nscheduled to help with getting ready\n\nfor a job search.
X-ALT-DESC;FMTTYPE=text/html:<em><strong>Managing Your Money:</strong></em><br />\nStudents will learn how to create a<br />\nbudget\, save money with a purpose\,<br />\ncontrol spending and find ways to<br />\nearn more\, as well as review tactics<br />\nto spend money more efficiently.<br />\n<em><strong>Savvy Shopper Seminar:</strong></em><br />\nStudents will learn how to make<br />\ntheir dollar go further. The course<br />\nwill teach ways to shop smarter at<br />\nthe grocery store and how to get<br />\nmore for less.<br />\n<em><strong>Employment\, Workshops\, Job Quest 101:</strong></em><br />\nStudents will learn to determine<br />\nwhat kind of resume they need and<br />\nhow to put their best foot forward &ndash\;<br />\nboth on paper and in an interview.<br />\n<em><strong>Developing Positive Work Habits:</strong></em><br />\nThis workshop covers the basics of<br />\nhow to be an employee who<br />\nemployers are seeking. It offers<br />\nattendees soft skills training to help<br />\nget\, and keep\, the job they want.<br />\n<em><strong>Other Workshops<br />\nRenting 101:</strong></em><br />\nThis workshop goes over how to<br />\napply for rental housing\, determine<br />\nyour budget and avoid scams.<br />\n<em><strong>One-on-One Coaching:</strong></em><br />\nOne-on-one coaching sessions are<br />\navailable for clients to dive deeper<br />\ninto personal finance and budgeting\,<br />\nresume building and/or interview<br />\nskills. Mock interviews can be<br />\nscheduled to help with getting ready<br />\nfor a job search.
LOCATION:Cle Elum Catalyst 214 Pennsylvania Ave.
UID:e.40.34705
SEQUENCE:3
DTSTAMP:20260421T152559Z
URL:https://business.kittitascountychamber.com/events/details/hope-university-34705
END:VEVENT

END:VCALENDAR
