BEGIN:VCALENDAR
VERSION:2.0
PRODID:-//ChamberMaster//Event Calendar 2.0//EN
METHOD:PUBLISH
X-PUBLISHED-TTL:P3D
REFRESH-INTERVAL:P3D
CALSCALE:GREGORIAN
BEGIN:VEVENT
DTSTART:20210922T003000Z
DTEND:20210922T023000Z
X-MICROSOFT-CDO-ALLDAYEVENT:FALSE
SUMMARY:New Leaders Kittitas County
DESCRIPTION:New Leaders Kittitas County (NLKC) is a program of the Kittitas County Chamber of Commerce and United Way of Central Washington to engage\, educate and empower current professionals and emerging leaders. We create opportunities for connectivity\, innovation and influence in our workforce and communities.
X-ALT-DESC;FMTTYPE=text/html:<span style="color: rgb(5\, 5\, 5)\; font-family: system-ui\, -apple-system\, system-ui\, &quot\;.SFNSText-Regular&quot\;\, sans-serif\; font-size: 15px\; background-color: rgb(255\, 255\, 255)\;">New Leaders Kittitas County (NLKC) is a program of the Kittitas County Chamber of Commerce and United Way of Central Washington to engage\, educate and empower current professionals and emerging leaders. We create opportunities for connectivity\, innovation and influence in our workforce and communities.</span>
LOCATION:Dark Moon Craft Beer and Wine
UID:e.40.26838
SEQUENCE:3
DTSTAMP:20260419T151927Z
URL:https://business.kittitascountychamber.com/events/details/new-leaders-kittitas-county-26838
END:VEVENT

END:VCALENDAR
