BEGIN:VCALENDAR
VERSION:2.0
PRODID:-//ChamberMaster//Event Calendar 2.0//EN
METHOD:PUBLISH
X-PUBLISHED-TTL:P3D
REFRESH-INTERVAL:P3D
CALSCALE:GREGORIAN
BEGIN:VEVENT
DTSTART:20210925T140000Z
DTEND:20210926T210000Z
X-MICROSOFT-CDO-ALLDAYEVENT:FALSE
SUMMARY:Order at Kittitas Cafe and Support Children in Foster Care
DESCRIPTION:5% of all sales at Kittitas Cafe on Sep. 25 & 26 will be donated to Skookum Kids. You will be supporting a local business and non-profit while trying delicious coffee and food.
X-ALT-DESC;FMTTYPE=text/html:5% of all sales at Kittitas Cafe on Sep. 25 &amp\; 26 will be donated to Skookum Kids. You will be supporting a local business and non-profit while trying delicious coffee and food.
LOCATION:301 Main St\, Kittitas\, WA 98934
UID:e.40.26827
SEQUENCE:3
DTSTAMP:20260424T141148Z
URL:https://business.kittitascountychamber.com/events/details/order-at-kittitas-cafe-and-support-children-in-foster-care-26827
END:VEVENT

END:VCALENDAR
