BEGIN:VCALENDAR
VERSION:2.0
PRODID:-//ChamberMaster//Event Calendar 2.0//EN
METHOD:PUBLISH
X-PUBLISHED-TTL:P3D
REFRESH-INTERVAL:P3D
CALSCALE:GREGORIAN
BEGIN:VEVENT
DTSTART:20210430T220000Z
DTEND:20210430T230000Z
X-MICROSOFT-CDO-ALLDAYEVENT:FALSE
SUMMARY:Pretty Fair Beer Co. 1-year Ribbon Cutting
DESCRIPTION:1st Anniversary/Grand Opening Party for Pretty Fair Beer. Join Pretty Fair Beer for a merch raffle on Friday night\, live music on Saturday\, some amazing food on Sunday\, and so much more! The taps will be flowing with Pretty Fair Beer from all over the state\, and the wine fridge will be fully stocked as well. All this in reaching our goal to make Pretty Fair Beer the best place to drink beer in Central Washington!
X-ALT-DESC;FMTTYPE=text/html:1st Anniversary/Grand Opening Party for Pretty Fair Beer. Join Pretty Fair Beer for a merch raffle on Friday night\, live music on Saturday\, some amazing food on Sunday\, and so much more! The taps will be flowing with Pretty Fair Beer from all over the state\, and the wine fridge will be fully stocked as well. All this in reaching our goal to make Pretty Fair Beer the best place to drink beer in Central Washington!
LOCATION:420 N Pearl St. in Ellensburg
UID:e.40.26593
SEQUENCE:3
DTSTAMP:20260420T143346Z
URL:https://business.kittitascountychamber.com/events/details/pretty-fair-beer-co-1-year-ribbon-cutting-26593
END:VEVENT

END:VCALENDAR
