BEGIN:VCALENDAR
VERSION:2.0
PRODID:-//ChamberMaster//Event Calendar 2.0//EN
METHOD:PUBLISH
X-PUBLISHED-TTL:P3D
REFRESH-INTERVAL:P3D
CALSCALE:GREGORIAN
BEGIN:VEVENT
DTSTART:20210407T190000Z
DTEND:20210407T200000Z
X-MICROSOFT-CDO-ALLDAYEVENT:FALSE
SUMMARY:YLAB Executive Board Meeting
DESCRIPTION:Once a month the induvial YLAB Pods will come together to discuss their group projects and community impact.
X-ALT-DESC;FMTTYPE=text/html:Once a month the induvial YLAB Pods will come together to discuss their group projects and community impact.
LOCATION:ZOOM
UID:e.40.26584
SEQUENCE:3
DTSTAMP:20260420T142434Z
URL:https://business.kittitascountychamber.com/events/details/ylab-executive-board-meeting-26584
END:VEVENT

END:VCALENDAR
